BEGIN:VCALENDAR
VERSION:2.0
PRODID:-//eventon.com NONSGML v1.0//EN
CALSCALE:GREGORIAN
METHOD:PUBLISH
BEGIN:VEVENT
UID:69e75b80412f8
DTSTAMP:20260421T111200Z
DTSTART:20221213T220000Z
DTEND:20221213T230000Z
LOCATION:
SUMMARY:Como a Educação Financeira é uma estratégia de marketing para escolas - Semana ENEF | CONAPREF
DESCRIPTION:Dando continuidade ao nosso CONAPREF\,  agora junto a Semana EN
 EF (Estratégia Nacional de Educação Financeira)\,  continuamos nossa seq
 uência de lives todos os dias a partir das 19h. São duas semanas de pales
 tras gratuitas e ricas com muito conteúdo voltado a Educação Financeira\
 ,  de 05 à 16 de Dezembro. Dia 13/12[..]\nhttps://abefin.org.br/events/com
 o-a-educacao-financeira-e-uma-estrategia-de-marketing-para-escolas-semana-e
 nef-conapref/var/event_access
URL:https://abefin.org.br/events/como-a-educacao-financeira-e-uma-estrategia-de-marketing-para-escolas-semana-enef-conapref/var/event_access
END:VEVENT
END:VCALENDAR